BEGIN:VCALENDAR
VERSION:2.0
PRODID:icalendar-ruby
CALSCALE:GREGORIAN
METHOD:PUBLISH
BEGIN:VEVENT
DTSTAMP:20260420T141731Z
UID:214-1298899@crossroadschurchnj.com
DTSTART:20260517T160000Z
DTEND:20260517T170000Z
CLASS:PUBLIC
CREATED:20260413T114538
DESCRIPTION:Registration is appreciated:\nhttps://tithe.ly/event-registrati
 on/#/11072788\n\nPurpose: Help people explore faith\, your church\, and th
 eir next step.\nDISCOVER\nStart Your Journey with God and Crossroads\nWho 
 it’s for:\n\nNew to church or faith\nVisiting Crossroads\nCurious about 
 Jesus\nLooking for a fresh start or getting better connected\n\nWhat You
 ’ll Experience\n\nA clear picture of who Jesus is\nWhat Crossroads belie
 ves and values\nA chance to ask honest questions\n\nOur Heart\nWe believe 
 following Jesus starts with an invitation: “Come and see.” – John 1
 :39\nNo pressure. No pretending. Just a place to explore.\n \nWhat You’
 ll Gain\n\nClarity about faith\nA sense of belonging\nDirection for your s
 piritual journey\n
LAST-MODIFIED:20260413T114538
LOCATION:
SUMMARY:Discover
URL;VALUE=URI:https://www.crossroadschurchnj.com/events/discover/2026-05-17
ATTACH;FILENAME=Discover-and-Connect-Series.png;FMTTYPE=image/png:https://d
 q5pwpg1q8ru0.cloudfront.net/2025/11/25/18/49/51/088212bc-aab8-4255-bdbd-5f
 0e6a33a34c/Discover-and-Connect-Series.png
END:VEVENT
END:VCALENDAR
